BEGIN:VCALENDAR
VERSION:2.0
PRODID:-//The Uncle Louie Variety Show - ECPv6.13.2.1//NONSGML v1.0//EN
CALSCALE:GREGORIAN
METHOD:PUBLISH
X-WR-CALNAME:The Uncle Louie Variety Show
X-ORIGINAL-URL:https://www.theunclelouievarietyshow.com
X-WR-CALDESC:Events for The Uncle Louie Variety Show
REFRESH-INTERVAL;VALUE=DURATION:PT1H
X-Robots-Tag:noindex
X-PUBLISHED-TTL:PT1H
BEGIN:VTIMEZONE
TZID:America/New_York
BEGIN:DAYLIGHT
TZOFFSETFROM:-0500
TZOFFSETTO:-0400
TZNAME:EDT
DTSTART:20260308T070000
END:DAYLIGHT
BEGIN:STANDARD
TZOFFSETFROM:-0400
TZOFFSETTO:-0500
TZNAME:EST
DTSTART:20261101T060000
END:STANDARD
END:VTIMEZONE
BEGIN:VEVENT
DTSTART;TZID=America/New_York:20261114T190000
DTEND;TZID=America/New_York:20261114T210000
DTSTAMP:20260421T064827
CREATED:20260320T205330Z
LAST-MODIFIED:20260320T205330Z
UID:803-1794682800-1794690000@www.theunclelouievarietyshow.com
SUMMARY:CLEVELAND OHIO - Hanna Theatre Playhouse Square
DESCRIPTION:The Uncle Louie Variety Show\, the premier old school comedy experience\, is excited to be on the road again with their latest tour\, “We Are Family”! The show stars a dynamic comedy duo\, Lou Greco and Carlo Russo\, who have gained international popularity with the celebration of what it was like growing up as an Italian-American. Known for their infectious energy and relatable humor\, the pair combines stand-up\, sketch comedy\, and live music that resonates with audiences of all ages. Their performances capture the essence of family life\, cultural quirks\, and the everyday experiences that unite us all. With a strong presence on social media and a dedicated following\, Lou and Carlo continue to evolve their act\, bringing laughter and joy wherever they go.
URL:https://www.theunclelouievarietyshow.com/event/cleveland-ohio-hanna-theatre-playhouse-square/
LOCATION:Hanna Theatre\, 1501 Euclid Avenue\, Cleveland\, OH\, 44115\, United States
CATEGORIES:Appearances,comedy,italian,Live Shows,Meet and Greet,stand up comedy
ATTACH;FMTTYPE=image/jpeg:https://www.theunclelouievarietyshow.com/wp-content/uploads/2026/03/uncle-louie-variety-show-we-are-family-tour.jpg
ORGANIZER;CN="The Uncle Louie Variety Show":MAILTO:theunclelouievarietyshow@gmail.com
END:VEVENT
END:VCALENDAR